BEGIN:VCALENDAR
VERSION:2.0
PRODID:-//Gergye Krisztián Társulata - ECPv5.14.1//NONSGML v1.0//EN
CALSCALE:GREGORIAN
METHOD:PUBLISH
X-WR-CALNAME:Gergye Krisztián Társulata
X-ORIGINAL-URL:https://gktarsulat.hu/hu
X-WR-CALDESC:Events for Gergye Krisztián Társulata
BEGIN:VTIMEZONE
TZID:UTC
BEGIN:STANDARD
TZOFFSETFROM:+0000
TZOFFSETTO:+0000
TZNAME:UTC
DTSTART:20230101T000000
END:STANDARD
END:VTIMEZONE
BEGIN:VEVENT
DTSTART;TZID=UTC:20230620T160000
DTEND;TZID=UTC:20230620T200000
DTSTAMP:20260425T152821
CREATED:20240407T201459Z
LAST-MODIFIED:20240407T201459Z
UID:1983-1687276800-1687291200@gktarsulat.hu
SUMMARY:Abakanon
DESCRIPTION:Abakanon Térspecifikus Premier \nGergye Krisztián Társulatának összművészeti előadása\nA Szépművészeti Múzeum egyedülálló\, nemzetközi összművészeti produkciónak adott otthont Magdalena Abakanowicz (1930-2017) lengyel képzőművész születésnapján. Az abakanon – A test emlékezete-előadást a múzeum gyűjteményében őrzött Ketrec című embernagyságú szobor ihlette\, amellyel a térinstalláció részeként ezen az egy napon a nagyközönség ismét találkozhat. \nAz előadás művészet értelmező szemlélettel közelít az életműhöz. A test emlékezete a tánc-\, a bábművészet\, a képzőművészet és a kortárs zene szintézise által törekszik a kimerevített rítusokként értelmezhető Abakanowicz-művek megidézésére. Misztikus és mitikus világok jelennek meg a színpadon\, ahol az örök mozdulatlanságba zárt figurák életre kelnek. \nMagdalena Abakanowicz szobrai időről időre megihletik a táncművészeket\, sőt maga a szobrász is készített koreográfiát pályája során. Művei és a tánc kapcsolatáról így beszélt: „Amikor esténként hazaindulok a műteremből\, arra gondolok\, hogy szobraim éppen most kelnek életre\, kezdik el saját életüket\, keresik meg saját ritmusukat.” \nA magyar és szlovák művészeket is felvonultató összművészeti performansz a X. Színházi Olimpia alkalmából kiírt Zsinórok nélkül című pályázat részeként valósul meg. \nElőadóművészek: Barabás Anita\, Gergye Krisztián\, Marek Gaj\, Kovács Domokos\, Roberta Krmášková\, Alica Šaling\nZongorán közreműködik: Philipp György\nZajzene: Kaardatyah\nJelmeztervező: Béres Móni\nDíszlettervező: Zöldy Z. Gergely\nProdukciós vezető: Gáspár Anna\nAsszisztens-kellék: Jankovich Eszter\nRendező\, koreográfus\, látvány: Gergye Krisztián\nProdukciós partner: Nemzeti Táncszínház\nFotók: Dömölky Dániel \nFotó: Dömölky Dániel
URL:https://gktarsulat.hu/hu/esemeny/abakanon/
LOCATION:Szépművészeti Múzeum\, Hősök tere\, Budapest\, Magyarország
END:VEVENT
END:VCALENDAR