BEGIN:VCALENDAR
VERSION:2.0
PRODID:-//Gergye Krisztián Társulata - ECPv5.14.1//NONSGML v1.0//EN
CALSCALE:GREGORIAN
METHOD:PUBLISH
X-WR-CALNAME:Gergye Krisztián Társulata
X-ORIGINAL-URL:https://gktarsulat.hu/hu
X-WR-CALDESC:Events for Gergye Krisztián Társulata
BEGIN:VTIMEZONE
TZID:Europe/Budapest
BEGIN:DAYLIGHT
TZOFFSETFROM:+0100
TZOFFSETTO:+0200
TZNAME:CEST
DTSTART:20180325T010000
END:DAYLIGHT
BEGIN:STANDARD
TZOFFSETFROM:+0200
TZOFFSETTO:+0100
TZNAME:CET
DTSTART:20181028T010000
END:STANDARD
END:VTIMEZONE
BEGIN:VEVENT
DTSTART;TZID=Europe/Budapest:20180212T190000
DTEND;TZID=Europe/Budapest:20180212T210000
DTSTAMP:20260425T170848
CREATED:20190319T074154Z
LAST-MODIFIED:20230322T090102Z
UID:1407-1518462000-1518469200@gktarsulat.hu
SUMMARY:befalazva - In memoriam Ország Lili
DESCRIPTION:
URL:https://gktarsulat.hu/hu/esemeny/befalazva-in-memoriam-orszag-lili-2/
LOCATION:Művészetek Palotája Fesztiválszínház\, Budapest
ATTACH;FMTTYPE=image/jpeg:https://gktarsulat.hu/wp-content/uploads/2019/03/befalazva-in-memoriam-orszag-lili-original-101011.jpg
END:VEVENT
END:VCALENDAR