BEGIN:VCALENDAR
VERSION:2.0
PRODID:-//Gergye Krisztián Társulata - ECPv5.14.1//NONSGML v1.0//EN
CALSCALE:GREGORIAN
METHOD:PUBLISH
X-WR-CALNAME:Gergye Krisztián Társulata
X-ORIGINAL-URL:https://gktarsulat.hu/hu
X-WR-CALDESC:Events for Gergye Krisztián Társulata
BEGIN:VTIMEZONE
TZID:Europe/Budapest
BEGIN:DAYLIGHT
TZOFFSETFROM:+0100
TZOFFSETTO:+0200
TZNAME:CEST
DTSTART:20220327T010000
END:DAYLIGHT
BEGIN:STANDARD
TZOFFSETFROM:+0200
TZOFFSETTO:+0100
TZNAME:CET
DTSTART:20221030T010000
END:STANDARD
END:VTIMEZONE
BEGIN:VEVENT
DTSTART;TZID=Europe/Budapest:20220326T180000
DTEND;TZID=Europe/Budapest:20220326T200000
DTSTAMP:20260425T152827
CREATED:20220320T210124Z
LAST-MODIFIED:20230322T095517Z
UID:1789-1648317600-1648324800@gktarsulat.hu
SUMMARY:Back and White
DESCRIPTION:Gergye Krisztián társművészeti performansza Nemes Anna kiállításához\n“back and white”\nkoncepció\, performer: Gergye Krisztián\nvetítés: Karcis Gábor\njelmez: Béres Móni\nasszisztens: Fazekas Anna\n\nA test\, mint a lélek médiuma. A mozdulat\, mint a lélek jelenléte.\nIdézve Nietzschét: “emberi\, túlságosan is emberi”.\nA mozdulatlanság\, mint a szorongás manifesztuma. Nyugalomnak tűnik. Az idő körgyűrűi rászáradnak a bőr felszínére.\nA sziluett ellenfényben\, ül\, áll\, fekszik. Van. A formán túlra szivárognak a lassú zajlások\, míg a kozmikus sötétből érkező emóciók örvényei bekebelezik az embert.\nPróbálja felfedezni a túlvilágot.\nA performansz során a táncos sziluettjére vetített\, embernagyságúra nagyított festmények egymásba mosódása egy koreográfiát képez. Követve az előírt mozdulatsort\, talán kirajzolódik egy történet\, amiben nincsenek ugyan események\, mégis tetten érhető a létezés bizonytalansága. Ebben az intim zajlásban talán bátran kimondható: “Én vagyok a történet.” (Nádas Péter: Találkozás)\nNemes Anna kiállításáról bővebben:\nhttps://www.varfok-galeria.hu/nemes-anna-egyszeru-bonyolult/\n 
URL:https://gktarsulat.hu/hu/esemeny/black-and-white/
LOCATION:Várfok Galéria\, Várfok utca 11\, Budapest
ATTACH;FMTTYPE=image/jpeg:https://gktarsulat.hu/wp-content/uploads/2023/03/kerges-scaled.jpg
END:VEVENT
END:VCALENDAR