BEGIN:VCALENDAR
VERSION:2.0
PRODID:-//Gergye Krisztián Társulata - ECPv5.14.1//NONSGML v1.0//EN
CALSCALE:GREGORIAN
METHOD:PUBLISH
X-WR-CALNAME:Gergye Krisztián Társulata
X-ORIGINAL-URL:https://gktarsulat.hu/hu
X-WR-CALDESC:Events for Gergye Krisztián Társulata
BEGIN:VTIMEZONE
TZID:UTC
BEGIN:STANDARD
TZOFFSETFROM:+0000
TZOFFSETTO:+0000
TZNAME:UTC
DTSTART:20220101T000000
END:STANDARD
END:VTIMEZONE
BEGIN:VEVENT
DTSTART;TZID=UTC:20221022T193000
DTEND;TZID=UTC:20221022T203000
DTSTAMP:20260425T153238
CREATED:20230322T101516Z
LAST-MODIFIED:20230322T101516Z
UID:1899-1666467000-1666470600@gktarsulat.hu
SUMMARY:egy körtefa árnyékában - összművészeti performansz
DESCRIPTION:Gergye Krisztián 2009-es Bárka Színházas Nádas bemutatói után (Találkozás\, Temetés) abban a megtisztelő helyzetben részesült\, hogy Nádas Péter 80. születésnapja alkalmából a Budapest Brand és a PIM által szervezett programsorozatban egy kivételes összművészeti eseményt hozhatott létre.  \nA Projekt 3 részben valósult meg\, melynek első fázisában\,  a Nádas Péter körtefájáról készített fotósorozatának és a fotók alapján készített Gergye akvarellek felhasználásával készült videoinstalláció valósult meg\, amelyet a Margitszigeti Zenélő szökőkút vízpárájára vetíthettünk három napon át. Hihetetlen élmény volt Nádas Péter körtefáját közel életnagyságban Budapest Margitszigetére idézni. A második fázisban egy POP-UP kiállítás keretében bemutattuk Gergye akvarelljeit\, és a nézők a Kristály galériájában egy térinstalláció keretében Nádas vetített körtefája alá ülhettek szemlélődni egy kerti padra. A harmadik fázisban már a tánc és színházművészetet is beemelhettük a projektbe\, így Barabás Anita és Gergye Krisztián a tánc\, Bánfalvi Eszter és Rétfalvi Tamás a színművészet\, Zombola Péter pedig a zene révén vett részt egy olyan összművészeti eseményben\, amelyben a Nádas életmű atmoszféráját igyekeztünk megidézni.  \n 
URL:https://gktarsulat.hu/hu/esemeny/egy-kortefa-arnyekaban-osszmuveszeti-performansz/
LOCATION:Három Holló
CATEGORIES:Performansz,Színházi rendezés
ATTACH;FMTTYPE=image/jpeg:https://gktarsulat.hu/wp-content/uploads/2023/03/310922126_10227834910475802_4035758215515776357_n.jpg
END:VEVENT
END:VCALENDAR