BEGIN:VCALENDAR
VERSION:2.0
PRODID:-//Gergye Krisztián Társulata - ECPv5.14.1//NONSGML v1.0//EN
CALSCALE:GREGORIAN
METHOD:PUBLISH
X-WR-CALNAME:Gergye Krisztián Társulata
X-ORIGINAL-URL:https://gktarsulat.hu/hu
X-WR-CALDESC:Events for Gergye Krisztián Társulata
BEGIN:VTIMEZONE
TZID:Europe/Budapest
BEGIN:DAYLIGHT
TZOFFSETFROM:+0100
TZOFFSETTO:+0200
TZNAME:CEST
DTSTART:20180325T010000
END:DAYLIGHT
BEGIN:STANDARD
TZOFFSETFROM:+0200
TZOFFSETTO:+0100
TZNAME:CET
DTSTART:20181028T010000
END:STANDARD
END:VTIMEZONE
BEGIN:VEVENT
DTSTART;TZID=Europe/Budapest:20181016T170000
DTEND;TZID=Europe/Budapest:20181016T183000
DTSTAMP:20260425T153133
CREATED:20190319T081935Z
LAST-MODIFIED:20190319T082212Z
UID:1450-1539709200-1539714600@gktarsulat.hu
SUMMARY:emberi\, túlságosan is emberi - MNG 2019
DESCRIPTION:
URL:https://gktarsulat.hu/hu/esemeny/emberi-tulsagosan-is-emberi-mng-2019/
LOCATION:Magyar Nemzeti Galéria
END:VEVENT
END:VCALENDAR