BEGIN:VCALENDAR
VERSION:2.0
PRODID:-//Gergye Krisztián Társulata - ECPv5.14.1//NONSGML v1.0//EN
CALSCALE:GREGORIAN
METHOD:PUBLISH
X-WR-CALNAME:Gergye Krisztián Társulata
X-ORIGINAL-URL:https://gktarsulat.hu/hu
X-WR-CALDESC:Events for Gergye Krisztián Társulata
BEGIN:VTIMEZONE
TZID:Europe/Budapest
BEGIN:DAYLIGHT
TZOFFSETFROM:+0100
TZOFFSETTO:+0200
TZNAME:CEST
DTSTART:20190331T010000
END:DAYLIGHT
BEGIN:STANDARD
TZOFFSETFROM:+0200
TZOFFSETTO:+0100
TZNAME:CET
DTSTART:20191027T010000
END:STANDARD
END:VTIMEZONE
BEGIN:VEVENT
DTSTART;TZID=Europe/Budapest:20190116T190000
DTEND;TZID=Europe/Budapest:20190116T203000
DTSTAMP:20260425T153121
CREATED:20190319T083106Z
LAST-MODIFIED:20190319T083106Z
UID:1462-1547665200-1547670600@gktarsulat.hu
SUMMARY:Carmen
DESCRIPTION:
URL:https://gktarsulat.hu/hu/esemeny/english-carmen-2/
LOCATION:Zeneakadémia\, Budapest
END:VEVENT
END:VCALENDAR