BEGIN:VCALENDAR
VERSION:2.0
PRODID:-//Gergye Krisztián Társulata - ECPv5.14.1//NONSGML v1.0//EN
CALSCALE:GREGORIAN
METHOD:PUBLISH
X-WR-CALNAME:Gergye Krisztián Társulata
X-ORIGINAL-URL:https://gktarsulat.hu/hu
X-WR-CALDESC:Events for Gergye Krisztián Társulata
BEGIN:VTIMEZONE
TZID:Europe/Budapest
BEGIN:DAYLIGHT
TZOFFSETFROM:+0100
TZOFFSETTO:+0200
TZNAME:CEST
DTSTART:20190331T010000
END:DAYLIGHT
BEGIN:STANDARD
TZOFFSETFROM:+0200
TZOFFSETTO:+0100
TZNAME:CET
DTSTART:20191027T010000
END:STANDARD
END:VTIMEZONE
BEGIN:VEVENT
DTSTART;TZID=Europe/Budapest:20190727T190000
DTEND;TZID=Europe/Budapest:20190727T210000
DTSTAMP:20260425T152734
CREATED:20200316T200340Z
LAST-MODIFIED:20200316T200552Z
UID:1747-1564254000-1564261200@gktarsulat.hu
SUMMARY:és Echo
DESCRIPTION:
URL:https://gktarsulat.hu/hu/esemeny/es-echo-3/
LOCATION:6. Természet Operaháza Tisza-tavi Fesztivál\, Tisza-tó
CATEGORIES:Performansz
END:VEVENT
END:VCALENDAR