BEGIN:VCALENDAR
VERSION:2.0
PRODID:-//Gergye Krisztián Társulata - ECPv5.14.1//NONSGML v1.0//EN
CALSCALE:GREGORIAN
METHOD:PUBLISH
X-WR-CALNAME:Gergye Krisztián Társulata
X-ORIGINAL-URL:https://gktarsulat.hu/hu
X-WR-CALDESC:Events for Gergye Krisztián Társulata
BEGIN:VTIMEZONE
TZID:Europe/Budapest
BEGIN:DAYLIGHT
TZOFFSETFROM:+0100
TZOFFSETTO:+0200
TZNAME:CEST
DTSTART:20180325T010000
END:DAYLIGHT
BEGIN:STANDARD
TZOFFSETFROM:+0200
TZOFFSETTO:+0100
TZNAME:CET
DTSTART:20181028T010000
END:STANDARD
END:VTIMEZONE
BEGIN:VEVENT
DTSTART;TZID=Europe/Budapest:20180517T160000
DTEND;TZID=Europe/Budapest:20180517T190000
DTSTAMP:20260425T153000
CREATED:20190319T074949Z
LAST-MODIFIED:20190319T075039Z
UID:1425-1526572800-1526583600@gktarsulat.hu
SUMMARY:Ha mi árnyak...
DESCRIPTION:
URL:https://gktarsulat.hu/hu/esemeny/ha-mi-arnyak-2-2/
LOCATION:Róth Miksa Emlékmúzeum\, Budapest
END:VEVENT
END:VCALENDAR