BEGIN:VCALENDAR
VERSION:2.0
PRODID:-//Gergye Krisztián Társulata - ECPv5.14.1//NONSGML v1.0//EN
CALSCALE:GREGORIAN
METHOD:PUBLISH
X-WR-CALNAME:Gergye Krisztián Társulata
X-ORIGINAL-URL:https://gktarsulat.hu/hu
X-WR-CALDESC:Events for Gergye Krisztián Társulata
BEGIN:VTIMEZONE
TZID:Europe/Budapest
BEGIN:DAYLIGHT
TZOFFSETFROM:+0100
TZOFFSETTO:+0200
TZNAME:CEST
DTSTART:20190331T010000
END:DAYLIGHT
BEGIN:STANDARD
TZOFFSETFROM:+0200
TZOFFSETTO:+0100
TZNAME:CET
DTSTART:20191027T010000
END:STANDARD
END:VTIMEZONE
BEGIN:VEVENT
DTSTART;TZID=Europe/Budapest:20190522T150000
DTEND;TZID=Europe/Budapest:20190522T163000
DTSTAMP:20260425T153133
CREATED:20200316T195409Z
LAST-MODIFIED:20200316T195436Z
UID:1731-1558537200-1558542600@gktarsulat.hu
SUMMARY:ha mi árnyak - monokróm rítus - XI. stáció
DESCRIPTION:
URL:https://gktarsulat.hu/hu/esemeny/ha-mi-arnyak-monokrom-ritus-xi-stacio/
LOCATION:A Tánc Fesztiválja\, Veszprém
CATEGORIES:Táncelőadás
END:VEVENT
END:VCALENDAR