BEGIN:VCALENDAR
VERSION:2.0
PRODID:-//Gergye Krisztián Társulata - ECPv5.14.1//NONSGML v1.0//EN
CALSCALE:GREGORIAN
METHOD:PUBLISH
X-WR-CALNAME:Gergye Krisztián Társulata
X-ORIGINAL-URL:https://gktarsulat.hu/hu
X-WR-CALDESC:Events for Gergye Krisztián Társulata
BEGIN:VTIMEZONE
TZID:UTC
BEGIN:STANDARD
TZOFFSETFROM:+0000
TZOFFSETTO:+0000
TZNAME:UTC
DTSTART:20240101T000000
END:STANDARD
END:VTIMEZONE
BEGIN:VEVENT
DTSTART;TZID=UTC:20240428T190000
DTEND;TZID=UTC:20240428T200000
DTSTAMP:20260425T153236
CREATED:20240407T195922Z
LAST-MODIFIED:20240407T195922Z
UID:1960-1714330800-1714334400@gktarsulat.hu
SUMMARY:"hiszem\, ha látom" Performansz a "kétely felfüggesztése" című kiállítás finisszázsára
DESCRIPTION:Gergye Krisztián előadóművészetében mára állandósult a művészeti műfajok szintézisét célzó alkotói attitűd. A képzőművészet és a tánc párhuzamosságainak\, lehetséges találkozásainak kutatása számos kiállításhoz kapcsolódó performanszban mutatkozott már meg. Ezek az egyedi események\, mindig az adott kiállítás múzeumi terét tekintve színpadnak\, az ember világba\, térbe vetettségének kiszolgáltatott helyzetéből indul ki.\nEgy ember önmagában\, a szemlélődés néma melankóliájában\, pusztán az érzékeire hagyatkozva próbálja felfedezni és elhelyezni magát az adott kiállítás által kínált világrendben. Nincs más csak egy test\, és a benne rejlő lélek emberi reflexiója\, a külvilág okozta hatásokra. Ezekből a néma\, szavak előtti\, vagy szavakon túli rezdülésekből valami mágikus tánc formálódik\, amiben testet ölthet a létezés törékenysége\, és a világhoz való mágikus viszonyulás nélkülözhetetlensége.\nHiszem\, ha látom. Ha látom\, van\, és én is vagyok.\n\n\nTestének mozdulata a külvilág okozta hatásokra nyelven túli reflexiója.  
URL:https://gktarsulat.hu/hu/esemeny/hiszem-ha-latom-performansz-a-ketely-felfuggesztese-cimu-kiallitas-finisszazsara/
LOCATION:Néprajzi Múzeum\, Dózsa György út 36.\, Budapest\, 1146\, Magyarország
END:VEVENT
END:VCALENDAR