BEGIN:VCALENDAR
VERSION:2.0
PRODID:-//Gergye Krisztián Társulata - ECPv5.14.1//NONSGML v1.0//EN
CALSCALE:GREGORIAN
METHOD:PUBLISH
X-WR-CALNAME:Gergye Krisztián Társulata
X-ORIGINAL-URL:https://gktarsulat.hu/hu
X-WR-CALDESC:Events for Gergye Krisztián Társulata
BEGIN:VTIMEZONE
TZID:UTC
BEGIN:STANDARD
TZOFFSETFROM:+0000
TZOFFSETTO:+0000
TZNAME:UTC
DTSTART:20240101T000000
END:STANDARD
END:VTIMEZONE
BEGIN:VEVENT
DTSTART;TZID=UTC:20241017T193000
DTEND;TZID=UTC:20241017T213000
DTSTAMP:20260425T170952
CREATED:20240407T200418Z
LAST-MODIFIED:20240407T200418Z
UID:1966-1729193400-1729200600@gktarsulat.hu
SUMMARY:Jajjistenem! Bukta Imre képzőművész életműve ihletésében
DESCRIPTION:Párbeszéd – Performansz-sorozat a kortárs tánc és a kortárs magyar képzőművészet párhuzamairól.  \nNemzeti Táncszínház \n  \nGergye Krisztián eddigi munkássága során folyamatosan kereste a képzőművészet és a tánc párhuzamait. A Nemzeti Táncszínházzal és különböző kortárs galériákkal (Godot Galéria\, Várfok Galéria\, Ferenczy Múzeum) valamint neves képzőművészekkel koprodukcióban egy új performansz és beszélgetés-sorozatot indít a Nemzeti Táncszínház előterében. A sorozat első kísérleti évadában\, a 2024-25ös évben három részt tervezünk\, melyek során egy-egy táncperformanszt az éppen aktuális képzőművésszel való beszélgetés követ. \n  \n\nRész. 2024 Október 17.\n\nJajjistenem! Bukta Imre képzőművész életműve ihletésében\, Sztravinszkij Tavaszi áldozatára alkotott térspecifikus esemény a Táncszínház aulájában. \nA 2023-ban\, az Art Market keretében bemutatott nagy sikerű Bukta életmű ihletésében készült performansz újra bemutatásra kerül\, majd a Godot Galéria művészével Bukta Imrével beszélgetünk mágiáról\, a hétköznapiság csodájáról és a tánc és performansz párhuzamosságáról Bukta életművének kontextusában.
URL:https://gktarsulat.hu/hu/esemeny/jajjistenem-bukta-imre-kepzomuvesz-eletmuve-ihleteseben/
LOCATION:Nemzeti Táncszínház\, Kisrókus u. 16-20.\, Budapest\, 1024\, Magyarország
END:VEVENT
END:VCALENDAR