BEGIN:VCALENDAR
VERSION:2.0
PRODID:-//Gergye Krisztián Társulata - ECPv5.14.1//NONSGML v1.0//EN
CALSCALE:GREGORIAN
METHOD:PUBLISH
X-WR-CALNAME:Gergye Krisztián Társulata
X-ORIGINAL-URL:https://gktarsulat.hu/hu
X-WR-CALDESC:Events for Gergye Krisztián Társulata
BEGIN:VTIMEZONE
TZID:UTC
BEGIN:STANDARD
TZOFFSETFROM:+0000
TZOFFSETTO:+0000
TZNAME:UTC
DTSTART:20230101T000000
END:STANDARD
END:VTIMEZONE
BEGIN:VEVENT
DTSTART;TZID=UTC:20231021T160000
DTEND;TZID=UTC:20231021T170000
DTSTAMP:20260425T153000
CREATED:20240407T201641Z
LAST-MODIFIED:20240407T201641Z
UID:1989-1697904000-1697907600@gktarsulat.hu
SUMMARY:„jajjistenem” – HÉTKÖZNAPI MÁGIA
DESCRIPTION:„jajjistenem” – HÉTKÖZNAPI MÁGIA – GERGYE KRISZTIÁN társulatának performansza – Budapest\nART + performansz\nZene: Stravinsky – Le sacre du printemps\nRendező: Krisztián GERGYE\nKoreográfia\, előadók: Heten mint a gonoszok\nJelmez\, kellék: Közösségi adományok és hétköznapi relikviák\nBálna Budapest – G001 stand \n  \nA performanszban  a festményeken megjelenített karaktereket testesítettek meg a táncosok. A karakterisztikát adó jelmezek\, ruhák és közösségi adományozásból összegyűjtött emblematikus kellékek\, talicska \, kapa\, gereblye\, otthonkák\, kendők\, bicikli …stb autentikus “Bukta” enteriőrt eredményeztek. \nA hétköznapi idős emberek archetipikus karakterekké nemesítve jelentek meg úgy az előadásban\, miként a festményeken is. \nA táncos előadók ezen archetípusok bőrébe bújva\, a performansz során egyedi\, személyes sors-történeteket táncoltak el. Ezek a sorsok folyton keresztezték egymást  a képzőművészeti vásár\, kiállítótér legnagyobb központi terében összegyűlve\, egy falusi tavaszünnep katarzisát helyezve egy XXI. Századi modern műtárgypiaci közegbe. \n  \nAz előadás specialitása volt\, hogy Sztravinszkij Tavaszi Áldozatára\, a táncművészeti kánon tematikák egyik remekművére valósítottuk meg egyedi eseményünket\, amely során az idős emberi mozgás imitációjának ritmizálása  kontrasztba helyezve Sztravinszkij extrém dinamikájával megadta az előadás performansz jellegét! \ntáncosok: \nNagy Csilla\, Barabás Anita\, Mikó Dávid\, Gergye Krisztián
URL:https://gktarsulat.hu/hu/esemeny/jajjistenem-hetkoznapi-magia/
LOCATION:ART MARKET\, Budapest\, Magyarország
END:VEVENT
END:VCALENDAR