BEGIN:VCALENDAR
VERSION:2.0
PRODID:-//Gergye Krisztián Társulata - ECPv5.14.1//NONSGML v1.0//EN
CALSCALE:GREGORIAN
METHOD:PUBLISH
X-WR-CALNAME:Gergye Krisztián Társulata
X-ORIGINAL-URL:https://gktarsulat.hu/hu
X-WR-CALDESC:Events for Gergye Krisztián Társulata
BEGIN:VTIMEZONE
TZID:UTC
BEGIN:STANDARD
TZOFFSETFROM:+0000
TZOFFSETTO:+0000
TZNAME:UTC
DTSTART:20220101T000000
END:STANDARD
END:VTIMEZONE
BEGIN:VEVENT
DTSTART;TZID=UTC:20221130T180000
DTEND;TZID=UTC:20221130T183000
DTSTAMP:20260425T153237
CREATED:20230322T091627Z
LAST-MODIFIED:20230322T092043Z
UID:1870-1669831200-1669833000@gktarsulat.hu
SUMMARY:Verebics Ágnes Osztódás című kiállítása
DESCRIPTION:Kiállítás-megnyitó Performansz Verebics Ágnes Osztódás című kiállításában
URL:https://gktarsulat.hu/hu/esemeny/kiallitas-megnyito-performansz-verebics-agnes-osztodas-cimu-kiallitasaban/
CATEGORIES:Performansz
ATTACH;FMTTYPE=image/jpeg:https://gktarsulat.hu/wp-content/uploads/2023/03/317669551_10226274617685955_6397872236765423531_n.jpg
END:VEVENT
END:VCALENDAR