BEGIN:VCALENDAR
VERSION:2.0
PRODID:-//Gergye Krisztián Társulata - ECPv5.14.1//NONSGML v1.0//EN
CALSCALE:GREGORIAN
METHOD:PUBLISH
X-WR-CALNAME:Gergye Krisztián Társulata
X-ORIGINAL-URL:https://gktarsulat.hu/hu
X-WR-CALDESC:Events for Gergye Krisztián Társulata
BEGIN:VTIMEZONE
TZID:Europe/Budapest
BEGIN:DAYLIGHT
TZOFFSETFROM:+0100
TZOFFSETTO:+0200
TZNAME:CEST
DTSTART:20180325T010000
END:DAYLIGHT
BEGIN:STANDARD
TZOFFSETFROM:+0200
TZOFFSETTO:+0100
TZNAME:CET
DTSTART:20181028T010000
END:STANDARD
END:VTIMEZONE
BEGIN:VEVENT
DTSTART;TZID=Europe/Budapest:20180105T190000
DTEND;TZID=Europe/Budapest:20180105T210000
DTSTAMP:20260425T153031
CREATED:20190319T073415Z
LAST-MODIFIED:20230322T084845Z
UID:1399-1515178800-1515186000@gktarsulat.hu
SUMMARY:Kokoschka babája
DESCRIPTION:
URL:https://gktarsulat.hu/hu/esemeny/kokoschka-babaja/
LOCATION:Weöres Sándor Színház\, Szombathely
CATEGORIES:Táncelőadás
ATTACH;FMTTYPE=image/jpeg:https://gktarsulat.hu/wp-content/uploads/2019/03/GTK_kokoschka_PR_daniel_domolky_WEB_003.jpg
END:VEVENT
END:VCALENDAR