BEGIN:VCALENDAR
VERSION:2.0
PRODID:-//Gergye Krisztián Társulata - ECPv5.14.1//NONSGML v1.0//EN
CALSCALE:GREGORIAN
METHOD:PUBLISH
X-WR-CALNAME:Gergye Krisztián Társulata
X-ORIGINAL-URL:https://gktarsulat.hu/hu
X-WR-CALDESC:Events for Gergye Krisztián Társulata
BEGIN:VTIMEZONE
TZID:UTC
BEGIN:STANDARD
TZOFFSETFROM:+0000
TZOFFSETTO:+0000
TZNAME:UTC
DTSTART:20240101T000000
END:STANDARD
END:VTIMEZONE
BEGIN:VEVENT
DTSTART;TZID=UTC:20240523T190000
DTEND;TZID=UTC:20240523T210000
DTSTAMP:20260425T152755
CREATED:20240407T195154Z
LAST-MODIFIED:20240407T195154Z
UID:1950-1716490800-1716498000@gktarsulat.hu
SUMMARY:Levitáció - Gravitáció
DESCRIPTION:LEVITÁCIÓ \nAz akasztás\, a történelem során számtalanszor alkalmazott kivégzési módszer\, amely egyfajta “színházi” jelenet. A gyilkolás színháza\, melyet rettentő csodálattal bámult a nép. Az éppen aktuális hatalom\, mégis miféle abszurd szcénát volt képes generálni\, hogy igazságot szolgáltathasson. Persze csak viszonylagos igazságok léteznek\, de a gyilkolás vagy a halál maga nem lehet viszonylagos. A kivégzés\, a nép szeme láttára történő “színház”\, bár nem a legnemesebb fajta\, a halált emeli a porondra\, mégsem tiszteli azt. \nA nézők a rettenet látványához tapadva mozdulatképtelenné válnak\, vagy épp bosszúvágyuk elégül ki\, míg a hatalom elrettentő példázattal él\, az igazság nevében\, vagy a hatalom megtartásáért. Mivel ezek a kivégzettek\, nyilván bűnösnek ítéltettek\, levitációban ábrázolt tetemük valamiként a bűnüket is átértékelte. Bűnösökből áldozatokká váltak inkább\, s mintha Istenhez fordulnának utolsó gesztusukkal. A tetem súlytalanságának illúziója által\, mintha a lélek válna láthatóvá\, amint épp a túlvilágra távozik. Gergye Krisztián akasztásokról készült dokumentumfotók alapján\, számos akvarellt készített\, amelyekről a kötelet\, mint a halál okát kihagyta. Így az akasztott testek jelenléte felül értékelődött\, mondhatni költőivé vált a jelenség\, és a testek levitálni kezdtek. \nA levitáció olyan jelenség\, amely folyton lenyűgözi az emberiséget. Egy olyan kiemelt\, vágyott\, irigyelt és rettegett állapot\, amely a transzcendencia bizonyítékaként gyökerestül felforgatja racionális gondolkodásunkat\, amitől óhatatlanul tudatunkba ömlik létezésünk korlátoltsága\, emberi mivoltunk kicsinysége és kicsinyessége\, emberi hatalmunk korlátozottsága. A levitáció jelenségét csodaként értelmezzük\, miszerint értelmezhetetlen számunkra. Mindenkori hatalmi hierarchiában elfoglalt pozíciónk tudatából keresünk rá magyarázatokat. Boszorkányság vagy mágia\, varázslat vagy angyali üdvözlet\, az ördög vagy Isten megtestesülése\, vagy puszta csalás\, szemfényvesztés. A büntetés\, kivégzés utáni halott test levitációjának gondolata\, beidézi a feltámadás gondolatát és a halál utáni büntethetetlenség\, vagyis a csoda büntethetetlenségének helyzetét is. Miként a levegőből\, úgy a halálból sem visszarángatható az ember. Így lesz igazán zavarba ejtő ez a képzet. \nGergye Krisztián Társulata és a Kőszegi Várszínház közös produkciója \nBudapesti premier a Monotánc Fesztivál keretében \nRendező\, koreográfus\, előadó: Gergye Krisztián\nVetítés: Diena László\nJelmez: Béres Móni\nProdukciós vezető: Gáspár Anna \nA vetítésben Gergye Krisztián akvarelljei kerültek felhasználásra. \n \nGRAVITÁCIÓ \nFeledi János személyére és alkatára készülő szóló\, GergyeKrisztián Levitáció című előadásának pandant darabja. A két monotánc önmagában is működő\, önállóalkotás\, A monotánc fesztivál keretében\, egy estén belül bemutatva\, egymásra reflektálva\, egymás kontextusát is megteremtik. \nA gravitáció\, mint emocionális és fizikai jelenség kerül terítékre\, színpadra emelve a kiszolgáltatott ember archetípusát.\nA gravitáció\, egyfajta vágyteljesítő szóló\, egy groteszk táncelőadás\, amely a gravitáció legyőzésére törekvő ember tragikus szerencsétlenkedésének\, önirónikus megfogalmazása. Tekinthető paródiának\, illetve a földtől elrugaszkodás képtelenségébe való beletörődésnek\, mert amíg az elrugaszkodás\, a szárnyalás\, az elszállás iranti vágyunk létezik\, akár a legnyomorultabb élethelyzetekbe is belesodorva magunkat élünk\, addig megadni magunkat a gravitációnak\, maga a halál\, a földbe olvadás békéje. \nAlkotó: Gergye Krisztián\nElőadó: FelediJános
URL:https://gktarsulat.hu/hu/esemeny/levitacio-gravitacio/
LOCATION:Nemzeti Táncszínház\, Kisrókus u. 16-20.\, Budapest\, 1024\, Magyarország
CATEGORIES:Táncelőadás
END:VEVENT
END:VCALENDAR