BEGIN:VCALENDAR
VERSION:2.0
PRODID:-//Gergye Krisztián Társulata - ECPv5.14.1//NONSGML v1.0//EN
CALSCALE:GREGORIAN
METHOD:PUBLISH
X-WR-CALNAME:Gergye Krisztián Társulata
X-ORIGINAL-URL:https://gktarsulat.hu/hu
X-WR-CALDESC:Events for Gergye Krisztián Társulata
BEGIN:VTIMEZONE
TZID:UTC
BEGIN:STANDARD
TZOFFSETFROM:+0000
TZOFFSETTO:+0000
TZNAME:UTC
DTSTART:20230101T000000
END:STANDARD
END:VTIMEZONE
BEGIN:VEVENT
DTSTART;TZID=UTC:20231109T190000
DTEND;TZID=UTC:20231109T210000
DTSTAMP:20260425T170342
CREATED:20240407T201849Z
LAST-MODIFIED:20240407T201937Z
UID:1996-1699556400-1699563600@gktarsulat.hu
SUMMARY:MILF
DESCRIPTION:  \nMILF  \nFüge Produkció / PREMIER \nHormonológ.\nHasznált nő gyerekkel\, érdekel?\nMos\, ápol\, házit ír\, kényeztet!\nÖnironikus este\, élveboncolás szóközökkel\, szerepjátékokkal a valóság elfogadásáért.\nAz ember erotikus megtestesülése és tárgyiasulása. Nyilvános body shaming.\nErősebb vagy\, mint az anyád szégyenérzete?\nGyere és nézz szembe múló valóságommal!\nMég előtted az élet\, akarod hátulról? Hörpints fel! Használj! Hasznosíts újra! Nézz! Hallgass!\nNincs mitől tartani\, az anyád is lehetnék! Ki mondta\,hogy #anyacsakegyvan!?\nMögöttem az élet\, lehetne elölről?\nVegyél jegyet (nem jachtra kell)! #watchtheMILF \nMilf ……………………………………….. Dr. Pető Kata\nSexymotherfucker: ………………….. Rohonyi Barnabás \nSzerző: Kovács Viktor\, Kovács Dominik\nZeneszerző: Matisz Flóra Lili\nJelmeztervező: Nagy Fruzsina\nDíszlettervező: Gergye Krisztián\, Isépy Andor\, Pető Kata\nFénytechnikus: Langó Ádám\nHangtechnikus: Nemesházi Attila\nProdukciós vezető: Gulyás Dóra\nRendező – koreográfus: Gergye Krisztián \nKülön köszönet Zsigó Anna dramaturgnak\, Bárdos Katinak a jelmezek kivitelezéséért és a Duett Textil Kft-nek. \nA produkció a Budapest Főváros Önkormányzata által meghirdetett Staféta program keretében valósult meg. \nTámogatók: Budapest Főváros Önkormányzata\, Staféta\, Füge Produkció\, NKA \n  \n  \n 
URL:https://gktarsulat.hu/hu/esemeny/milf/
END:VEVENT
END:VCALENDAR