BEGIN:VCALENDAR
VERSION:2.0
PRODID:-//Gergye Krisztián Társulata - ECPv5.14.1//NONSGML v1.0//EN
CALSCALE:GREGORIAN
METHOD:PUBLISH
X-WR-CALNAME:Gergye Krisztián Társulata
X-ORIGINAL-URL:https://gktarsulat.hu/hu
X-WR-CALDESC:Events for Gergye Krisztián Társulata
BEGIN:VTIMEZONE
TZID:UTC
BEGIN:STANDARD
TZOFFSETFROM:+0000
TZOFFSETTO:+0000
TZNAME:UTC
DTSTART:20230101T000000
END:STANDARD
END:VTIMEZONE
BEGIN:VEVENT
DTSTART;TZID=UTC:20230316T180000
DTEND;TZID=UTC:20230316T190000
DTSTAMP:20260425T153138
CREATED:20230322T093145Z
LAST-MODIFIED:20230322T093145Z
UID:1877-1678989600-1678993200@gktarsulat.hu
SUMMARY:Rabóczky Judit kiállításának megnyitó performansza
DESCRIPTION:Rabóczky Judit Rita Vasra verve című kiállításának megnyitó performansza
URL:https://gktarsulat.hu/hu/esemeny/raboczky-judit-kiallitasanak-megnyito-performansza/
ATTACH;FMTTYPE=image/jpeg:https://gktarsulat.hu/wp-content/uploads/2023/03/IMGP8315.jpg
END:VEVENT
END:VCALENDAR