BEGIN:VCALENDAR
VERSION:2.0
PRODID:-//Gergye Krisztián Társulata - ECPv5.14.1//NONSGML v1.0//EN
CALSCALE:GREGORIAN
METHOD:PUBLISH
X-WR-CALNAME:Gergye Krisztián Társulata
X-ORIGINAL-URL:https://gktarsulat.hu/hu
X-WR-CALDESC:Events for Gergye Krisztián Társulata
BEGIN:VTIMEZONE
TZID:UTC
BEGIN:STANDARD
TZOFFSETFROM:+0000
TZOFFSETTO:+0000
TZNAME:UTC
DTSTART:20230101T000000
END:STANDARD
END:VTIMEZONE
BEGIN:VEVENT
DTSTART;TZID=UTC:20231022T160000
DTEND;TZID=UTC:20231022T170000
DTSTAMP:20260425T153134
CREATED:20240407T201742Z
LAST-MODIFIED:20240407T201805Z
UID:1992-1697990400-1697994000@gktarsulat.hu
SUMMARY:Reigl Judit Szárnyalás
DESCRIPTION:REIGL KIÁLLÍTÁS FINISSZÁZS A KISCELLI MÚZEUMBEN RÓKA ENIKŐ KURÁTORRAL ÉS GERGYE KRISZTIÁN KORTÁRS TÁNCOSSAL\nOktóber 22-én\, vasárnap finisszázst tart a Kiscelli Múzeum a Szárnyalás–Vol–Flight. Reigl Judit figurális festészete című kiállításán. \nProgram: \n14.30-15.30 Tárlatvezetés Róka Enikő kurátorral \n16-17.30 Szabadesés. Tánc-performansz Reigl Judit Szárnyalás című kiállítására. (Koncepció\, rendezés\, performansz: Gergye Krisztián\, jelmez- testfestés: Béres Móni) \nGergye Krisztián ajánlója: \n„Reigl Judit figuratív képei felfoghatatlan elementáris erővel hatnak rám! Felforgatnak\, felemelnek! Nézve a képeit mintha magam is lebegni kezdenék. A képhatáron túlárad az atmoszféra\, és olyan közel kerül hozzám a kép tárgya\, hogy már csak az alakok torzói férnek bele a látómezőmbe. Ha elfordulok\, kénytelen vagyok visszazuhanni a földre. Épségben ugyan\, de nem érintetlenül. Megrendülve érzékelhetem a létezés súlyát! A tánc megfoghatatlansága talán abban rejlik\, hogy az emberi test absztrakcióvá válik a szemünk láttára\, Reiglnél elképesztő\, ahogy az absztrakcióból szublimálódik a test. Hihetetlen megjelenülés.” \nReigl Judit születésének 100. évfordulóját kiállításokkal ünnepli számos európai és hazai múzeum. A Kiscelli Múzeum – Fővárosi Képtár tárlata a berlini Neue Nationalgalerie és a budapesti Szépművészeti Múzeum kiállításait köti össze: míg az előbbi a művész legismertebb alkotói korszakát\, az 1950-es és 1980-as évek közötti festményeit tekinti át\, az utóbbi Reigl munkásságának első és utolsó éveiből válogat. A Kiscelli Múzeum – Fővárosi Képtár e két kiállítás törzsanyaga közötti periódusra fókuszál\, és első ízben mutatja be\, milyen jelentős helyet foglalt el Reigl Judit egész életművében az emberábrázolás. \nMűvészi pályájának egymást követő – vagy átfedő\, a ráfestések miatt sokszor egymást lefedő – korszakait Reigl egyetlen organikus folyamatnak látta\, nem tett különbséget absztrakció és figurativitás között. A kritika azonban sokáig értetlenül fogadta az időről időre felbukkanó figuratív képeit\, s ma is lényegesen nagyobb az absztrakt munkái iránti érdeklődés. A Szárnyalás–Vol–Flight c. kiállítás Reigl periférikusnak tekintett\, kevéssé ismert sorozataira hívja fel a figyelmet\, hiszen életműve csak ezek beemelésével és a művész következetes gondolkodásának feltárásával értelmezhető. A kiállítás a művész hagyatékát őrző és a szerzői jogokkal rendelkező párizsi alapítvánnyal\, a Fonds de dotation Judit Reigllel együttműködésben valósul meg. \nKurátorok: Cserba Júlia\, Gát János\, Róka Enikő \n 
URL:https://gktarsulat.hu/hu/esemeny/reigl-judit-szarnyalas/
END:VEVENT
END:VCALENDAR