BEGIN:VCALENDAR
VERSION:2.0
PRODID:-//Gergye Krisztián Társulata - ECPv5.14.1//NONSGML v1.0//EN
CALSCALE:GREGORIAN
METHOD:PUBLISH
X-WR-CALNAME:Gergye Krisztián Társulata
X-ORIGINAL-URL:https://gktarsulat.hu/hu
X-WR-CALDESC:Events for Gergye Krisztián Társulata
BEGIN:VTIMEZONE
TZID:UTC
BEGIN:STANDARD
TZOFFSETFROM:+0000
TZOFFSETTO:+0000
TZNAME:UTC
DTSTART:20230101T000000
END:STANDARD
END:VTIMEZONE
BEGIN:VEVENT
DTSTART;TZID=UTC:20231114T170000
DTEND;TZID=UTC:20231114T200000
DTSTAMP:20260425T152821
CREATED:20240407T202257Z
LAST-MODIFIED:20240407T202257Z
UID:2000-1699981200-1699992000@gktarsulat.hu
SUMMARY:TEXTÚRA
DESCRIPTION:TEXTÚRA Premier \n\nA képzőművészetet\, irodalmat és színházat izgalmasan ötvöző Textúra 2023 őszén ismét beköltözik a Magyar Nemzeti Galéria falai közé. Az ötlet változatlan: a múzeum felkérésére nyolc kortárs magyar szerző írt szöveget a Galéria egy-egy művéből inspirációt merítve\, melyeket színművészek tolmácsolnak az ihlető műalkotások társaságában. \nA hazai kulturális élet innovatív képző- és előadó-művészeti produkciójának köszönhetően novemberben újra megelevenednek a Magyar Nemzeti Galéria állandó gyűjteményének festményei és szobrai. A formák\, karakterek\, témák egy-egy jelenetet hívnak életre\, melyek révén a művek új értelmezéssel\, történettel\, asszociációval gazdagodnak. \nA Textúrát idén a nemzetközi hírű Éry Franciska rendezi. Rendezése nemcsak a szövegek térbe helyezésére\, hanem a zene\, a tánc\, a mozgás és a néző útjára is helyezi a hangsúlyt. \nAz este során a látogatók áthaladnak olyan területeken\, amelyek normál nyitvatartási időben zárva tartanak\, és olyan épületrészbe is bejutnak\, ahová csak a múzeum dolgozói léphetnek be. \nAz előadásban szereplő képzőművészeti alkotások mind időben\, mind térben végigvezetnek a múzeum állandó gyűjteményein\, a kiválasztott műtárgyak között a középkori szárnyas oltároktól kezdve a 19. és 20. századi gyűjteményen át a kortárs művekig találunk műtárgyakat. \nA felkért írók köre és az általuk alkotott szövegek világa éppolyan sokszínű és izgalmas\, mint a kiválasztott műalkotások sora: tragédia\, humor\, melankólia\, szakralitás és hétköznapiság váltja egymást a jelenetekben. A színészek rövid szünetekkel nyolc alkalommal játsszák el az epizódokat\, a közönség így mindegyik színt meg tudja tekinteni. A jelenetek sorrendje ezúttal nem szabadon választott\, és az\, hogy miként jutnak el a nézők egyik helyszíntől a másikig\, szintén a meglepetés része. \nÍrók/képzőművészeti alkotások: \nBakos Gyöngyi: Négyszáz dobás / Ferenczy Károly: Kavicsot hajigáló fiúk\, 1890(Horkay Barnabás\, Hevesi László\, Bán Bálint\, Forrai Áron\, Brezovszky Dániel)\nLackfi János: Felhők bivalytej-örvénylése/ A kisszebeni Keresztelő Szent János-főoltár ünnepi táblaképei\, melyek a Hiszekegy sorait illusztrálják\, 1491 (Kurta Niké / Nagy Rebeka)\nSimon Márton: Rövid összefoglaló a selyemhernyóbábok életéről / Drozdik Orsolya: Cinikus ész IV.: Agylábtörlő\, 1991 (Bocsárdi Magor / Kiss Nikolett / Forrai Áron)\nSzvoren Edina: Másik lépcső / Bernáth Aurél: Riviéra\, 1926–1927 (Rezes Judit)\nTompa Andrea: Berta grófnő / Gyertyánffy Berta: Spirka cigánylány\, 1860-as évek (Grisnik Petra / Decsi Edit)\nVisky András: Kopaszok. A Vaszilij-terápia / Brauer Marcell: Bauhaus székek / (Messaoudi Emina\, Martinkovics Máté\, Kiss Nikolett\, Brezovszky Dániel)\nVisniek\, Matei: A táncoló szó – Le mot qui danse / Izsó Miklós: Táncoló paraszt VII.\, 1870-es évek eleje (Hunyadi Máté)\nVonnák Diána: Özönvíz/ Rózsa Luca Sára: Özönvíz\, 2021 / (Pelsőczy Réka\, Gyabronka József\, Rezes Judit\, Thuróczy Szabolcs) \nRendező: Éry Franciska\nDramaturg: Adorján Beáta\nZeneszerző: Bocsárdi Magor\nJelmeztervező: Hugo Aguirre\nKoreográfus: Gergye Krisztián \nTáncosok: Barabás Anita\, Bot Ádám\, Gergye Krisztián\, Kamp Anna\, Kudlák Eszter\, Mikó Dávid\, Nagy Csilla\, Simkó Beatrix\, Szilágyi Krisztián\, Téri Gáspár\, Tóth Laura \nA produkcióban közreműködik Bocsárdi Magor (hegedű)\, Garami Eszter (cselló) és Skerlecz Gábor (harsona). \n 
URL:https://gktarsulat.hu/hu/esemeny/textura/
LOCATION:Magyar Nemzeti Galéria
END:VEVENT
END:VCALENDAR