BEGIN:VCALENDAR
VERSION:2.0
PRODID:-//Gergye Krisztián Társulata - ECPv5.14.1//NONSGML v1.0//EN
CALSCALE:GREGORIAN
METHOD:PUBLISH
X-WR-CALNAME:Gergye Krisztián Társulata
X-ORIGINAL-URL:https://gktarsulat.hu/hu
X-WR-CALDESC:Events for Gergye Krisztián Társulata
BEGIN:VTIMEZONE
TZID:UTC
BEGIN:STANDARD
TZOFFSETFROM:+0000
TZOFFSETTO:+0000
TZNAME:UTC
DTSTART:20230101T000000
END:STANDARD
END:VTIMEZONE
BEGIN:VEVENT
DTSTART;VALUE=DATE:20230717
DTEND;VALUE=DATE:20230724
DTSTAMP:20260425T152959
CREATED:20240407T201124Z
LAST-MODIFIED:20240407T201124Z
UID:1976-1689552000-1690156799@gktarsulat.hu
SUMMARY:Torso 01 - Back and White KOREA
DESCRIPTION:Július 17-23.\n\nFesztiválmeghívás a Dél Koreai Nemzetközi Monotáncfesztiválra \nTorso 01 – Back and White – szólóelőadás Nemes Anna festőművész alkotásainak ihletésében bemutatásra került a Kóreai Nemzetközi Monotánc Fesztiválon.  \nA test\, mint a lélek médiuma. A mozdulat\, mint a lélek jelenléte. Idézve Nietzschét: “emberi\, túlságosan is emberi”. A mozdulatlanság\, mint a szorongás manifesztuma.A X. nemzetközi Monotánc Fesztiválon bemutatott produkciónk meghívást kapott Koreába\, Szöulba\, az ott megvalósuló Monotánc Fesztivál programjába. Az előadás utaztatásával a Pro Progressione szervezetével működtünk együtt\, bővítve nemzetközi kapcsolatainkat\, népszerűsítve a magyar kortárs tánc és képzőművészetet.
URL:https://gktarsulat.hu/hu/esemeny/torso-01-back-and-white-korea/
LOCATION:KOREA
END:VEVENT
END:VCALENDAR