BEGIN:VCALENDAR
VERSION:2.0
PRODID:-//Gergye Krisztián Társulata - ECPv5.14.1//NONSGML v1.0//EN
CALSCALE:GREGORIAN
METHOD:PUBLISH
X-WR-CALNAME:Gergye Krisztián Társulata
X-ORIGINAL-URL:https://gktarsulat.hu/hu
X-WR-CALDESC:Events for Gergye Krisztián Társulata
BEGIN:VTIMEZONE
TZID:Europe/Budapest
BEGIN:DAYLIGHT
TZOFFSETFROM:+0100
TZOFFSETTO:+0200
TZNAME:CEST
DTSTART:20190331T010000
END:DAYLIGHT
BEGIN:STANDARD
TZOFFSETFROM:+0200
TZOFFSETTO:+0100
TZNAME:CET
DTSTART:20191027T010000
END:STANDARD
END:VTIMEZONE
BEGIN:VEVENT
DTSTART;TZID=Europe/Budapest:20191216T130000
DTEND;TZID=Europe/Budapest:20191216T160000
DTSTAMP:20260425T170846
CREATED:20200316T202833Z
LAST-MODIFIED:20200316T202833Z
UID:1773-1576501200-1576512000@gktarsulat.hu
SUMMARY:Workshop a Kölcsey Ferenc Gimnáziumban
DESCRIPTION:
URL:https://gktarsulat.hu/hu/esemeny/workshop-a-kolcsey-ferenc-gimnaziumban/
LOCATION:Kölcsey Ferenc Gimnázium\, 1066 Munkácsy Mihály utca 26.\, Budapest
CATEGORIES:Alkalmazott koreográfia
END:VEVENT
END:VCALENDAR