BEGIN:VCALENDAR
VERSION:2.0
PRODID:-//Gergye Krisztián Társulata - ECPv5.14.1//NONSGML v1.0//EN
CALSCALE:GREGORIAN
METHOD:PUBLISH
X-WR-CALNAME:Gergye Krisztián Társulata
X-ORIGINAL-URL:https://gktarsulat.hu/hu
X-WR-CALDESC:Events for Gergye Krisztián Társulata
BEGIN:VTIMEZONE
TZID:UTC
BEGIN:STANDARD
TZOFFSETFROM:+0000
TZOFFSETTO:+0000
TZNAME:UTC
DTSTART:20230101T000000
END:STANDARD
END:VTIMEZONE
BEGIN:VEVENT
DTSTART;TZID=UTC:20230124T180000
DTEND;TZID=UTC:20230124T183000
DTSTAMP:20260425T153132
CREATED:20230322T092451Z
LAST-MODIFIED:20230322T092451Z
UID:1874-1674583200-1674585000@gktarsulat.hu
SUMMARY:Zséger Olívia Tükör című kiállítása
DESCRIPTION:Zséger Olívia Tükör című Kiállításának megnyitója a MET Galériában
URL:https://gktarsulat.hu/hu/esemeny/zseger-olivia-tukor-cimu-kiallitasa/
ATTACH;FMTTYPE=image/png:https://gktarsulat.hu/wp-content/uploads/2023/03/uploadedimage.png
END:VEVENT
END:VCALENDAR